BEGIN:VCALENDAR
VERSION:2.0
PRODID:-//MuziekGoLF - ECPv6.15.20//NONSGML v1.0//EN
CALSCALE:GREGORIAN
METHOD:PUBLISH
X-ORIGINAL-URL:https://www.muziekgolf.nl
X-WR-CALDESC:Evenementen voor MuziekGoLF
REFRESH-INTERVAL;VALUE=DURATION:PT1H
X-Robots-Tag:noindex
X-PUBLISHED-TTL:PT1H
BEGIN:VTIMEZONE
TZID:Europe/Paris
BEGIN:DAYLIGHT
TZOFFSETFROM:+0100
TZOFFSETTO:+0200
TZNAME:CEST
DTSTART:20250330T010000
END:DAYLIGHT
BEGIN:STANDARD
TZOFFSETFROM:+0200
TZOFFSETTO:+0100
TZNAME:CET
DTSTART:20251026T010000
END:STANDARD
BEGIN:DAYLIGHT
TZOFFSETFROM:+0100
TZOFFSETTO:+0200
TZNAME:CEST
DTSTART:20260329T010000
END:DAYLIGHT
BEGIN:STANDARD
TZOFFSETFROM:+0200
TZOFFSETTO:+0100
TZNAME:CET
DTSTART:20261025T010000
END:STANDARD
BEGIN:DAYLIGHT
TZOFFSETFROM:+0100
TZOFFSETTO:+0200
TZNAME:CEST
DTSTART:20270328T010000
END:DAYLIGHT
BEGIN:STANDARD
TZOFFSETFROM:+0200
TZOFFSETTO:+0100
TZNAME:CET
DTSTART:20271031T010000
END:STANDARD
END:VTIMEZONE
BEGIN:VEVENT
DTSTART;TZID=Europe/Paris:20260130T200000
DTEND;TZID=Europe/Paris:20260130T230000
DTSTAMP:20260419T163007
CREATED:20250830T124557Z
LAST-MODIFIED:20250830T124557Z
UID:1346-1769803200-1769814000@www.muziekgolf.nl
SUMMARY:Jaarconcert Top 2000 Concordia
DESCRIPTION:
URL:https://www.muziekgolf.nl/event/jaarconcert-top-2000-concordia/
LOCATION:Buitensociëteit Zutphen
END:VEVENT
END:VCALENDAR