BEGIN:VCALENDAR
VERSION:2.0
PRODID:-//MuziekGoLF - ECPv6.15.20//NONSGML v1.0//EN
CALSCALE:GREGORIAN
METHOD:PUBLISH
X-WR-CALNAME:MuziekGoLF
X-ORIGINAL-URL:https://www.muziekgolf.nl
X-WR-CALDESC:Evenementen voor MuziekGoLF
REFRESH-INTERVAL;VALUE=DURATION:PT1H
X-Robots-Tag:noindex
X-PUBLISHED-TTL:PT1H
BEGIN:VTIMEZONE
TZID:Europe/Paris
BEGIN:DAYLIGHT
TZOFFSETFROM:+0100
TZOFFSETTO:+0200
TZNAME:CEST
DTSTART:20250330T010000
END:DAYLIGHT
BEGIN:STANDARD
TZOFFSETFROM:+0200
TZOFFSETTO:+0100
TZNAME:CET
DTSTART:20251026T010000
END:STANDARD
BEGIN:DAYLIGHT
TZOFFSETFROM:+0100
TZOFFSETTO:+0200
TZNAME:CEST
DTSTART:20260329T010000
END:DAYLIGHT
BEGIN:STANDARD
TZOFFSETFROM:+0200
TZOFFSETTO:+0100
TZNAME:CET
DTSTART:20261025T010000
END:STANDARD
BEGIN:DAYLIGHT
TZOFFSETFROM:+0100
TZOFFSETTO:+0200
TZNAME:CEST
DTSTART:20270328T010000
END:DAYLIGHT
BEGIN:STANDARD
TZOFFSETFROM:+0200
TZOFFSETTO:+0100
TZNAME:CET
DTSTART:20271031T010000
END:STANDARD
BEGIN:DAYLIGHT
TZOFFSETFROM:+0100
TZOFFSETTO:+0200
TZNAME:CEST
DTSTART:20280326T010000
END:DAYLIGHT
BEGIN:STANDARD
TZOFFSETFROM:+0200
TZOFFSETTO:+0100
TZNAME:CET
DTSTART:20281029T010000
END:STANDARD
END:VTIMEZONE
BEGIN:VEVENT
DTSTART;VALUE=DATE:20260321
DTEND;VALUE=DATE:20260322
DTSTAMP:20260419T193433
CREATED:20250830T125445Z
LAST-MODIFIED:20260131T140432Z
UID:1358-1774051200-1774137599@www.muziekgolf.nl
SUMMARY:Royal Noabers concert Advendo en Apollo
DESCRIPTION:Op zaterdag 21 maart staat de Braninkhal in Laren volledig in het teken van Royal Noabers\, een groots en meeslepend concert waarin muziek\, theater en geschiedenis samensmelten.  \nMuziekverenigingen Apollo en Advendo bundelen voor deze bijzondere avond hun krachten in een ambitieus project dat verder gaat dan een traditioneel concert. Royal Noabers is een doorlopend muzikaal én visueel verhaal\, waarin harmonie\, fanfare\, slagwerk en drumband samen het decor vormen voor een unieke belevenis.\nHoewel beide verenigingen duidelijk hun eigen identiteit en klankkleur behouden\, vertellen zij gezamenlijk één verhaal. De afwisseling tussen afzonderlijke optredens en gezamenlijke muzikale momenten zorgt voor dynamiek en spanning\, maar ook voor verbondenheid. Juist die combinatie maakt Royal Noabers tot een bijzonder project: twee verenigingen\, elk met een eigen karakter\, die elkaar versterken in een gezamenlijke uitvoering. \nRe-enactment groep Het Woud der Verwachtingen draagt bij aan de sfeer van Royal Noabers met historische personages en theatrale elementen. Door hun aanwezigheid wordt de tijd waarin het verhaal zich afspeelt tot leven gebracht. Zo groeit Royal Noabers uit tot meer dan een muzikaal optreden en ontstaat een complete theatrale ervaring waarin de historie voor het publiek tastbaar wordt. \nMet Royal Noabers laten Apollo en Advendo zien wat er mogelijk is wanneer muzikale grenzen worden verlegd en samenwerking centraal staat. Het resultaat is een meeslepende avond vol muziek\, cultuur en geschiedenis\, die zowel muziekliefhebbers als liefhebbers van theater en historie zal aanspreken. Een unieke belevenis die het publiek nog lang zal bijblijven.
URL:https://www.muziekgolf.nl/event/royal-noabers-concert-advendo-en-apollo/
ATTACH;FMTTYPE=image/jpeg:https://www.muziekgolf.nl/wp-content/uploads/2025/08/Royal-Noabers-Poster.jpg
END:VEVENT
BEGIN:VEVENT
DTSTART;TZID=Europe/Paris:20260322T113000
DTEND;TZID=Europe/Paris:20260322T130000
DTSTAMP:20260419T193433
CREATED:20251207T183911Z
LAST-MODIFIED:20251207T184120Z
UID:1370-1774179000-1774184400@www.muziekgolf.nl
SUMMARY:Koffieconcert Juliana Almen
DESCRIPTION:Koffieconcert in Ons Huis (beneden)
URL:https://www.muziekgolf.nl/event/koffieconcert-juliana-almen/
LOCATION:Dorpshuis Ons Huis\, Dorpsstraat 37\, Almen\, Almen\, 7218AC\, Netherlands
END:VEVENT
BEGIN:VEVENT
DTSTART;TZID=Europe/Paris:20260509T193000
DTEND;TZID=Europe/Paris:20260509T223000
DTSTAMP:20260419T193433
CREATED:20250830T124814Z
LAST-MODIFIED:20250830T124814Z
UID:1348-1778355000-1778365800@www.muziekgolf.nl
SUMMARY:Gezamenlijk concert Concordia met het Ettens Mannenkoor
DESCRIPTION:
URL:https://www.muziekgolf.nl/event/gezamenlijk-concert-concordia-met-het-ettens-mannenkoor/
LOCATION:Dorpsplein Etten
END:VEVENT
BEGIN:VEVENT
DTSTART;VALUE=DATE:20260606
DTEND;VALUE=DATE:20260607
DTSTAMP:20260419T193433
CREATED:20251207T184055Z
LAST-MODIFIED:20251207T184055Z
UID:1373-1780704000-1780790399@www.muziekgolf.nl
SUMMARY:STAAL muziekfestival
DESCRIPTION:
URL:https://www.muziekgolf.nl/event/staal-muziekfestival/
LOCATION:Dorpsplein Almen
END:VEVENT
BEGIN:VEVENT
DTSTART;TZID=Europe/Paris:20260704T170000
DTEND;TZID=Europe/Paris:20260704T170000
DTSTAMP:20260419T193433
CREATED:20251207T184303Z
LAST-MODIFIED:20251207T184341Z
UID:1375-1783184400-1783184400@www.muziekgolf.nl
SUMMARY:Zomerconcert Juliana en SDG
DESCRIPTION:
URL:https://www.muziekgolf.nl/event/zomerconcert/
LOCATION:Zwembad Almen\, Berkelweg 7\, Almen\, 7218AS\, Netherlands
END:VEVENT
BEGIN:VEVENT
DTSTART;TZID=Europe/Paris:20260708T193000
DTEND;TZID=Europe/Paris:20260708T213000
DTSTAMP:20260419T193433
CREATED:20251207T182917Z
LAST-MODIFIED:20251207T182917Z
UID:1364-1783539000-1783546200@www.muziekgolf.nl
SUMMARY:Zomeravondconcert Concordia
DESCRIPTION:Op 8 Juli\, vindt ons jaarlijkse zomeravondconcert plaats. \nWe sluiten hiermee voor de vakantie het muzikale jaar af met een informeel en gezellig buitenconcert. En… we nodigen ook muzikale familieleden\, vrienden en andere muzikanten uit om met ons mee te spelen. \nHet concert start om 19.30u.\nBij mooi(droog) weer vindt het concert plaats op het Tiverseplein voor de ontmoetingskerk. Bij slecht weer pakken we de boel op en vindt het concert in de kerk plaats. Iedereen is van harte welkom. De toegang is gratis maar als je wilt zitten\, is het handig om je eigen(klap) stoel mee te brengen.
URL:https://www.muziekgolf.nl/event/zomeravondconcert-concordia/
LOCATION:Triverseplein Eefde
END:VEVENT
BEGIN:VEVENT
DTSTART;VALUE=DATE:20270206
DTEND;VALUE=DATE:20270207
DTSTAMP:20260419T193433
CREATED:20250830T125522Z
LAST-MODIFIED:20250830T125522Z
UID:1360-1801872000-1801958399@www.muziekgolf.nl
SUMMARY:Jeugd Muziek Festival 2027
DESCRIPTION:
URL:https://www.muziekgolf.nl/event/jeugd-muziek-festival-2027/
ORGANIZER;CN="MuziekGolf":MAILTO:jmf@muziekgolf.nl
END:VEVENT
END:VCALENDAR