BEGIN:VCALENDAR
VERSION:2.0
PRODID:-//MuziekGoLF - ECPv6.15.20//NONSGML v1.0//EN
CALSCALE:GREGORIAN
METHOD:PUBLISH
X-ORIGINAL-URL:https://www.muziekgolf.nl
X-WR-CALDESC:Evenementen voor MuziekGoLF
REFRESH-INTERVAL;VALUE=DURATION:PT1H
X-Robots-Tag:noindex
X-PUBLISHED-TTL:PT1H
BEGIN:VTIMEZONE
TZID:Europe/Paris
BEGIN:DAYLIGHT
TZOFFSETFROM:+0100
TZOFFSETTO:+0200
TZNAME:CEST
DTSTART:20240331T010000
END:DAYLIGHT
BEGIN:STANDARD
TZOFFSETFROM:+0200
TZOFFSETTO:+0100
TZNAME:CET
DTSTART:20241027T010000
END:STANDARD
BEGIN:DAYLIGHT
TZOFFSETFROM:+0100
TZOFFSETTO:+0200
TZNAME:CEST
DTSTART:20250330T010000
END:DAYLIGHT
BEGIN:STANDARD
TZOFFSETFROM:+0200
TZOFFSETTO:+0100
TZNAME:CET
DTSTART:20251026T010000
END:STANDARD
BEGIN:DAYLIGHT
TZOFFSETFROM:+0100
TZOFFSETTO:+0200
TZNAME:CEST
DTSTART:20260329T010000
END:DAYLIGHT
BEGIN:STANDARD
TZOFFSETFROM:+0200
TZOFFSETTO:+0100
TZNAME:CET
DTSTART:20261025T010000
END:STANDARD
END:VTIMEZONE
BEGIN:VEVENT
DTSTART;TZID=Europe/Paris:20251220T193000
DTEND;TZID=Europe/Paris:20251220T210000
DTSTAMP:20260419T193244
CREATED:20251207T183215Z
LAST-MODIFIED:20251207T183215Z
UID:1366-1766259000-1766264400@www.muziekgolf.nl
SUMMARY:Kerstconcert Fanfare SDG
DESCRIPTION:Kerstconcert door de fanfare van SDG samen met popkoor Swing Fun.
URL:https://www.muziekgolf.nl/event/kerstconcert-fanfare-sdg/
LOCATION:Dorpshuus Hoeflo\, Hulstweg 6\, Harfsen\, 7217 SZ\, Nederland
ORGANIZER;CN="SDG Harfsen":MAILTO:sdgharfsen@hotmail.com
END:VEVENT
END:VCALENDAR