BEGIN:VCALENDAR
VERSION:2.0
PRODID:-//MuziekGoLF - ECPv6.15.20//NONSGML v1.0//EN
CALSCALE:GREGORIAN
METHOD:PUBLISH
X-ORIGINAL-URL:https://www.muziekgolf.nl
X-WR-CALDESC:Evenementen voor MuziekGoLF
REFRESH-INTERVAL;VALUE=DURATION:PT1H
X-Robots-Tag:noindex
X-PUBLISHED-TTL:PT1H
BEGIN:VTIMEZONE
TZID:Europe/Paris
BEGIN:DAYLIGHT
TZOFFSETFROM:+0100
TZOFFSETTO:+0200
TZNAME:CEST
DTSTART:20240331T010000
END:DAYLIGHT
BEGIN:STANDARD
TZOFFSETFROM:+0200
TZOFFSETTO:+0100
TZNAME:CET
DTSTART:20241027T010000
END:STANDARD
BEGIN:DAYLIGHT
TZOFFSETFROM:+0100
TZOFFSETTO:+0200
TZNAME:CEST
DTSTART:20250330T010000
END:DAYLIGHT
BEGIN:STANDARD
TZOFFSETFROM:+0200
TZOFFSETTO:+0100
TZNAME:CET
DTSTART:20251026T010000
END:STANDARD
BEGIN:DAYLIGHT
TZOFFSETFROM:+0100
TZOFFSETTO:+0200
TZNAME:CEST
DTSTART:20260329T010000
END:DAYLIGHT
BEGIN:STANDARD
TZOFFSETFROM:+0200
TZOFFSETTO:+0100
TZNAME:CET
DTSTART:20261025T010000
END:STANDARD
END:VTIMEZONE
BEGIN:VEVENT
DTSTART;TZID=Europe/Paris:20250505T140000
DTEND;TZID=Europe/Paris:20250505T170000
DTSTAMP:20260424T080938
CREATED:20250328T115248Z
LAST-MODIFIED:20250330T123828Z
UID:1326-1746453600-1746464400@www.muziekgolf.nl
SUMMARY:Bevrijdingsconcert MuziekGoLF
DESCRIPTION:Op maandag 5 mei geeft de MuziekGoLF een gezamenlijk bevrijdingsconcert ter ere van 80 jaar vrijheid: “Vrijheid vier je muzikaal”. \nHet orkest bestaat uit leden van alle verenigingen die zijn aangesloten bij onze stichting; Marc Dammers is voor deze gelegenheid de dirigent. \nMarc is geen onbekende bij de MuziekGoLF; hij is namelijk dirigent bij zowel Apollo Laren als De Harmonie Gorssel-Eefde. \nLocatie:\nRK Kerk H. Joseph\, Nieuweweg 18 in Lochem\n(Parkeren kan op het Graafschapsterrein) \nMeer informatie volgt binnenkort.
URL:https://www.muziekgolf.nl/event/bevrijdingsconcert-muziekgolf/
LOCATION:RK Kerk H. Joseph Lochem\, Nieuweweg 18\, Lochem\, 7241 ET\, Netherlands
ATTACH;FMTTYPE=image/jpeg:https://www.muziekgolf.nl/wp-content/uploads/2025/03/GoLF-Bevrijdingsconcert-3.jpg
ORGANIZER;CN="MuziekGolf":MAILTO:jmf@muziekgolf.nl
END:VEVENT
END:VCALENDAR