BEGIN:VCALENDAR
VERSION:2.0
PRODID:-//MuziekGoLF - ECPv6.15.20//NONSGML v1.0//EN
CALSCALE:GREGORIAN
METHOD:PUBLISH
X-ORIGINAL-URL:https://www.muziekgolf.nl
X-WR-CALDESC:Evenementen voor MuziekGoLF
REFRESH-INTERVAL;VALUE=DURATION:PT1H
X-Robots-Tag:noindex
X-PUBLISHED-TTL:PT1H
BEGIN:VTIMEZONE
TZID:Europe/Paris
BEGIN:DAYLIGHT
TZOFFSETFROM:+0100
TZOFFSETTO:+0200
TZNAME:CEST
DTSTART:20240331T010000
END:DAYLIGHT
BEGIN:STANDARD
TZOFFSETFROM:+0200
TZOFFSETTO:+0100
TZNAME:CET
DTSTART:20241027T010000
END:STANDARD
BEGIN:DAYLIGHT
TZOFFSETFROM:+0100
TZOFFSETTO:+0200
TZNAME:CEST
DTSTART:20250330T010000
END:DAYLIGHT
BEGIN:STANDARD
TZOFFSETFROM:+0200
TZOFFSETTO:+0100
TZNAME:CET
DTSTART:20251026T010000
END:STANDARD
BEGIN:DAYLIGHT
TZOFFSETFROM:+0100
TZOFFSETTO:+0200
TZNAME:CEST
DTSTART:20260329T010000
END:DAYLIGHT
BEGIN:STANDARD
TZOFFSETFROM:+0200
TZOFFSETTO:+0100
TZNAME:CET
DTSTART:20261025T010000
END:STANDARD
END:VTIMEZONE
BEGIN:VEVENT
DTSTART;TZID=Europe/Paris:20250322T100000
DTEND;TZID=Europe/Paris:20250322T170000
DTSTAMP:20260424T112853
CREATED:20240906T102837Z
LAST-MODIFIED:20250302T164418Z
UID:1210-1742637600-1742662800@www.muziekgolf.nl
SUMMARY:Jeugd Muziek Festival 2025
DESCRIPTION:Op zaterdag 22 maart 2025 zijn jeugdige en/of beginnende muzikanten weer van harte welkom om mee te doen met ons Jeugd Muziek Festival! \nDe dag begint om 10.00 uur en wordt afgesloten met een heus (mini) concert voor familie\, leden van de muziekverenigingen en alle andere belangstellenden. \n 
URL:https://www.muziekgolf.nl/event/jeugd-muziek-festival-2025/
ORGANIZER;CN="MuziekGolf":MAILTO:jmf@muziekgolf.nl
END:VEVENT
END:VCALENDAR