BEGIN:VCALENDAR
VERSION:2.0
PRODID:-//MuziekGoLF - ECPv6.15.20//NONSGML v1.0//EN
CALSCALE:GREGORIAN
METHOD:PUBLISH
X-WR-CALNAME:MuziekGoLF
X-ORIGINAL-URL:https://www.muziekgolf.nl
X-WR-CALDESC:Evenementen voor MuziekGoLF
REFRESH-INTERVAL;VALUE=DURATION:PT1H
X-Robots-Tag:noindex
X-PUBLISHED-TTL:PT1H
BEGIN:VTIMEZONE
TZID:Europe/Paris
BEGIN:DAYLIGHT
TZOFFSETFROM:+0100
TZOFFSETTO:+0200
TZNAME:CEST
DTSTART:20240331T010000
END:DAYLIGHT
BEGIN:STANDARD
TZOFFSETFROM:+0200
TZOFFSETTO:+0100
TZNAME:CET
DTSTART:20241027T010000
END:STANDARD
BEGIN:DAYLIGHT
TZOFFSETFROM:+0100
TZOFFSETTO:+0200
TZNAME:CEST
DTSTART:20250330T010000
END:DAYLIGHT
BEGIN:STANDARD
TZOFFSETFROM:+0200
TZOFFSETTO:+0100
TZNAME:CET
DTSTART:20251026T010000
END:STANDARD
BEGIN:DAYLIGHT
TZOFFSETFROM:+0100
TZOFFSETTO:+0200
TZNAME:CEST
DTSTART:20260329T010000
END:DAYLIGHT
BEGIN:STANDARD
TZOFFSETFROM:+0200
TZOFFSETTO:+0100
TZNAME:CET
DTSTART:20261025T010000
END:STANDARD
END:VTIMEZONE
BEGIN:VEVENT
DTSTART;TZID=Europe/Paris:20250316T113000
DTEND;TZID=Europe/Paris:20250316T150000
DTSTAMP:20260424T112719
CREATED:20250302T164242Z
LAST-MODIFIED:20250302T164437Z
UID:1302-1742124600-1742137200@www.muziekgolf.nl
SUMMARY:Frühshoppen met Apollo en Larenka
DESCRIPTION:Op zondag 16 maart verandert de zaal van Witkamp in Oostenrijkse stijl! Koninklijke Muziekvereniging Apollo en blaaskapel Larenka bundelen hun krachten voor een gezellige muzikale zondag. \nHet brunchconcert\, waarbij het fanfareorkest\, de drumband en de jeugdleden van Apollo hun talenten laten horen\, begint om 11.30 uur. Larenka brengt hun welbekende klanken zowel met blaasmuziek als zang\, waardoor de sfeer compleet is! \nMeer dan muziek alleen\nVoor slechts € 20\,- per persoon genieten bezoekers niet alleen van live muziek\, maar ook van een smakelijke brunch in Oostenrijkse stijl. Bij de entreeprijs is een kop koffie of thee met apfelstrudel inbegrepen\, evenals een heerlijke kom soep met een broodje. Een perfecte combinatie van muziek en culinair genieten!
URL:https://www.muziekgolf.nl/event/fruhshoppen-met-apollo-en-larenka/
LOCATION:Witkamp Laren\, Dorpsstraat 8\, Laren\, 7245 AK\, Nederland
END:VEVENT
END:VCALENDAR